BEGIN:VCALENDAR
METHOD:PUBLISH
PRODID:-//github.com/rianjs/ical.net//NONSGML ical.net 4.0//EN
VERSION:2.0
X-WR-CALNAME:Issaquah Middle School PTSA
BEGIN:VEVENT
CREATED:20251125T123719
DTEND:20260409T030000Z
DTSTAMP:20260419T191444Z
DTSTART:20260409T010000Z
LAST-MODIFIED:20251125T123719
LOCATION:Zoom
SEQUENCE:0
STATUS:CONFIRMED
SUMMARY:PTSA Board Meeting
TRANSP:TRANSPARENT
UID:144925@ourschoolpages.com
END:VEVENT
END:VCALENDAR
